BEGIN:VCALENDAR
VERSION:2.0
PRODID:-//Anne-Maartje - ECPv4.6.10.1//NONSGML v1.0//EN
CALSCALE:GREGORIAN
METHOD:PUBLISH
X-WR-CALNAME:Anne-Maartje
X-ORIGINAL-URL:http://www.annemaartjelemereis.com
X-WR-CALDESC:Events for Anne-Maartje
BEGIN:VEVENT
DTSTART;TZID=UTC+0:20160411T190000
DTEND;TZID=UTC+0:20160411T210000
DTSTAMP:20260422T162640
CREATED:20160321T212207Z
LAST-MODIFIED:20160321T212207Z
UID:276-1460401200-1460408400@www.annemaartjelemereis.com
SUMMARY:Compositieconcert
DESCRIPTION:Op maandag 11 april brengt Anne-Maartje de wereldpremière van Niels Hak’s ‘What do I see’ tijdens het compositieconcert van het Utrechts Conservatorium. \n
URL:http://www.annemaartjelemereis.com/event/compositieconcert/
END:VEVENT
END:VCALENDAR